BEGIN:VCALENDAR
VERSION:2.0
PRODID:icalendar-ruby
CALSCALE:GREGORIAN
METHOD:PUBLISH
BEGIN:VEVENT
DTSTAMP:20260423T073631Z
UID:8-1370409@beckspurbaptist.com
DTSTART:20261018T173000Z
DTEND:20261018T183000Z
CLASS:PUBLIC
CREATED:20260422T201010
DESCRIPTION:Second Service and Wee Worship 2
LAST-MODIFIED:20260422T201010
LOCATION:Beck Spur Baptist Church
SUMMARY:Second Service and Wee Worship 2
URL;VALUE=URI:https://www.beckspurbaptist.com/events/second-service-and-wee
 -worship-2/2026-10-18
END:VEVENT
END:VCALENDAR
