BEGIN:VCALENDAR
VERSION:2.0
PRODID:icalendar-ruby
CALSCALE:GREGORIAN
METHOD:PUBLISH
BEGIN:VEVENT
DTSTAMP:20260422T232714Z
UID:8-1369756@beckspurbaptist.com
DTSTART:20260913T173000Z
DTEND:20260913T183000Z
CLASS:PUBLIC
CREATED:20260422T142418
DESCRIPTION:Second Service and Wee Worship 2
LAST-MODIFIED:20260422T142418
LOCATION:Beck Spur Baptist Church
SUMMARY:Second Service and Wee Worship 2
URL;VALUE=URI:https://www.beckspurbaptist.com/events/second-service-and-wee
 -worship-2/2026-09-13
END:VEVENT
END:VCALENDAR
