BEGIN:VCALENDAR
VERSION:2.0
PRODID:icalendar-ruby
CALSCALE:GREGORIAN
METHOD:PUBLISH
BEGIN:VEVENT
DTSTAMP:20260422T145055Z
UID:8-1368780@beckspurbaptist.com
DTSTART:20260809T173000Z
DTEND:20260809T183000Z
CLASS:PUBLIC
CREATED:20260422T053904
DESCRIPTION:Second Service and Wee Worship 2
LAST-MODIFIED:20260422T053904
LOCATION:Beck Spur Baptist Church
SUMMARY:Second Service and Wee Worship 2
URL;VALUE=URI:https://www.beckspurbaptist.com/events/second-service-and-wee
 -worship-2/2026-08-09
END:VEVENT
END:VCALENDAR
