BEGIN:VCALENDAR
VERSION:2.0
PRODID:icalendar-ruby
CALSCALE:GREGORIAN
METHOD:PUBLISH
BEGIN:VEVENT
DTSTAMP:20260422T114248Z
UID:8-1368455@beckspurbaptist.com
DTSTART:20260726T173000Z
DTEND:20260726T183000Z
CLASS:PUBLIC
CREATED:20260421T183108
DESCRIPTION:Second Service and Wee Worship 2
LAST-MODIFIED:20260421T183108
LOCATION:Beck Spur Baptist Church
SUMMARY:Second Service and Wee Worship 2
URL;VALUE=URI:https://www.beckspurbaptist.com/events/second-service-and-wee
 -worship-2/2026-07-26
END:VEVENT
END:VCALENDAR
